BEGIN:VCALENDAR
VERSION:2.0
PRODID:-//Grüne St. Leon-Rot - ECPv5.16.4.1//NONSGML v1.0//EN
CALSCALE:GREGORIAN
METHOD:PUBLISH
X-WR-CALNAME:Grüne St. Leon-Rot
X-ORIGINAL-URL:https://gruene-slr.de
X-WR-CALDESC:Veranstaltungen für Grüne St. Leon-Rot
BEGIN:VTIMEZONE
TZID:Europe/Berlin
BEGIN:DAYLIGHT
TZOFFSETFROM:+0100
TZOFFSETTO:+0200
TZNAME:CEST
DTSTART:20240331T010000
END:DAYLIGHT
BEGIN:STANDARD
TZOFFSETFROM:+0200
TZOFFSETTO:+0100
TZNAME:CET
DTSTART:20241027T010000
END:STANDARD
END:VTIMEZONE
BEGIN:VEVENT
DTSTART;TZID=Europe/Berlin:20240706T110000
DTEND;TZID=Europe/Berlin:20240706T110000
DTSTAMP:20260421T101219
CREATED:20240703T141420Z
LAST-MODIFIED:20250927T121440Z
UID:16751-1720263600-1720263600@gruene-slr.de
SUMMARY:Radtour innerhalb des Stadtradelns
DESCRIPTION:Zu einer gemeinsamen Radtour innerhalb des Stadtradelns laden wir herzlich ein. \nWir treffen uns am Samstag\, den 6. Juli um 11 Uhr am Anglersee in St. Leon. \nDiesmal radeln wir auf schönen Radwegen Richtung Heidelberg und kehren im Pfaffengrund zu einem Mittagessen ein. \nFalls es am Samstag regnen sollte\, verschieben wir unsere geplante Tour auf Freitag\, den 12. Juli\, Abfahrt 15 Uhr beim Anglersee\, St. Leon.
URL:https://gruene-slr.de/event/radtour-innerhalb-des-stadtradelns/
LOCATION:Anglersee St. Leon
ATTACH;FMTTYPE=image/jpeg:https://gruene-slr.de/wp-content/uploads/2024/06/Stadtradeln-2021-2-scaled.jpg
ORGANIZER;CN="Gr%C3%BCner%20Ortsverband%20St.%20Leon-Rot":MAILTO:info@gruene-slr.de
END:VEVENT
END:VCALENDAR