BEGIN:VCALENDAR
VERSION:2.0
PRODID:-//Grüne St. Leon-Rot - ECPv5.16.4.1//NONSGML v1.0//EN
CALSCALE:GREGORIAN
METHOD:PUBLISH
X-WR-CALNAME:Grüne St. Leon-Rot
X-ORIGINAL-URL:https://gruene-slr.de
X-WR-CALDESC:Veranstaltungen für Grüne St. Leon-Rot
BEGIN:VTIMEZONE
TZID:Europe/Berlin
BEGIN:DAYLIGHT
TZOFFSETFROM:+0100
TZOFFSETTO:+0200
TZNAME:CEST
DTSTART:20240331T010000
END:DAYLIGHT
BEGIN:STANDARD
TZOFFSETFROM:+0200
TZOFFSETTO:+0100
TZNAME:CET
DTSTART:20241027T010000
END:STANDARD
END:VTIMEZONE
BEGIN:VEVENT
DTSTART;TZID=Europe/Berlin:20240416T183000
DTEND;TZID=Europe/Berlin:20240416T183000
DTSTAMP:20260422T000045
CREATED:20240409T080327Z
LAST-MODIFIED:20250927T121552Z
UID:15261-1713292200-1713292200@gruene-slr.de
SUMMARY:Einladung des Grünen OV Malsch
DESCRIPTION:Am Dienstag\, 16. April um 18:30 Uhr lädt uns der OV Malsch in die Zehntscheuer ein. \nDer OV konnte einen Referenten der Fa. ÖKONSULT aus Stuttgart gewinnen\, der über nachhaltige Siedlungsentwicklung vor dem Hintergrund des demografischen Wandels sprechen wird. \nDer Vortrag beleuchtet u.a. die möglichen Neubaugebiete „Sauermichel“ und “Im Stand“ und gibt wichtige Impulse zum Programm „Flächengewinnung durch Innenentwicklung“. \n  \nKonkrete Leitfragen des Vortrags sind: \n\nBrauchen wir im Zeitalter des demografischen Wandels weitere Neubaugebiete?\nWelche Wohnungen brauchen wir künftig?\nWie bekommen wir mehr preiswerten Wohnraum?\nWie wirkt sich das auf die finanzielle Situation der Gemeinde aus?
URL:https://gruene-slr.de/event/einladung-des-gruenen-ov-malsch/
ATTACH;FMTTYPE=image/jpeg:https://gruene-slr.de/wp-content/uploads/2020/09/Logo_Gruene.jpg
END:VEVENT
END:VCALENDAR